BEGIN:VCALENDAR
VERSION:2.0
PRODID:-// - ECPv6.2.0.1//NONSGML v1.0//EN
CALSCALE:GREGORIAN
METHOD:PUBLISH
X-ORIGINAL-URL:https://2doorsteps.com
X-WR-CALDESC:Events for 
REFRESH-INTERVAL;VALUE=DURATION:PT1H
X-Robots-Tag:noindex
X-PUBLISHED-TTL:PT1H
BEGIN:VTIMEZONE
TZID:Australia/Sydney
BEGIN:STANDARD
TZOFFSETFROM:+1100
TZOFFSETTO:+1000
TZNAME:AEST
DTSTART:20230401T160000
END:STANDARD
BEGIN:DAYLIGHT
TZOFFSETFROM:+1000
TZOFFSETTO:+1100
TZNAME:AEDT
DTSTART:20230930T160000
END:DAYLIGHT
END:VTIMEZONE
BEGIN:VEVENT
DTSTART;TZID=Australia/Sydney:20230826T170000
DTEND;TZID=Australia/Sydney:20230826T230000
DTSTAMP:20260423T090041
CREATED:20230820T015935Z
LAST-MODIFIED:20230820T015935Z
UID:330-1693069200-1693090800@2doorsteps.com
SUMMARY:2023 KAC TRIVIA Event
DESCRIPTION:26 Aug\, 5:00 pm – 11:00 pm\nFlynn Community Hall\, 21 Bingle St\, Flynn ACT 2615\, Australia\n\nWe\, the new committee of 2023-24 are delighted to welcome you all to our very first event of the year\, the much-anticipated TRIVIA NIGHT!!
URL:https://2doorsteps.com/event/2023-kac-trivia-event/
LOCATION:Flynn Community Hall\, 21 Bingle St\, Flynn ACT 2615\, Flynn Community Hall\, 21 Bingle St\, Flynn ACT 2615\, Australia\, ACT\, 2615\, Australia
ORGANIZER;CN="KAC":MAILTO:emailnitya@Yahoo。com
END:VEVENT
END:VCALENDAR